BEGIN:VCALENDAR
PRODID:-//eluceo/ical//2.0/EN
VERSION:2.0
CALSCALE:GREGORIAN
BEGIN:VEVENT
UID:14d302a73696a10981e8c04ed5436f51
DTSTAMP:20260423T071132Z
SUMMARY:Spaziergang Bubikon/ Kämmoos - Bannholz
DESCRIPTION:
URL:https://rotary-bachtel-zuerich.ch/it/agenda/show/125700
DTSTART;TZID=Europe/Zurich:20210528T140000
DTEND;TZID=Europe/Zurich:20210528T160000
LOCATION:Draussen
CATEGORIES:Rotary
END:VEVENT
BEGIN:VTIMEZONE
TZID:Europe/Zurich
BEGIN:DAYLIGHT
DTSTART:20210528T140000
TZNAME:CEST
TZOFFSETTO:+0200
TZOFFSETFROM:+0200
END:DAYLIGHT
END:VTIMEZONE
END:VCALENDAR
