BEGIN:VCALENDAR
PRODID:-//eluceo/ical//2.0/EN
VERSION:2.0
CALSCALE:GREGORIAN
BEGIN:VEVENT
UID:9e2e4e60dadb6e180cb00f744d17a2f9
DTSTAMP:20260424T193602Z
SUMMARY:Lunch mit Referat „Aufforstungs- & Naturschutzprojekte in Ecuador
  aus Sicht eines Ecopreneurs“
DESCRIPTION:Site internet: https://www.gartencenter-meier.ch
URL:https://rotary-bachtel-zuerich.ch/fr/agenda/show/188429
DTSTART;TZID=Europe/Zurich:20250113T120000
DTEND;TZID=Europe/Zurich:20250113T140000
LOCATION:Gartencenter Meier\, Kreuzstrasse 2\, 8635 Dürnten\, Schweiz
CATEGORIES:Rotary
END:VEVENT
BEGIN:VTIMEZONE
TZID:Europe/Zurich
BEGIN:STANDARD
DTSTART:20250113T120000
TZNAME:CET
TZOFFSETTO:+0100
TZOFFSETFROM:+0100
END:STANDARD
END:VTIMEZONE
END:VCALENDAR
