BEGIN:VCALENDAR
PRODID:-//eluceo/ical//2.0/EN
VERSION:2.0
CALSCALE:GREGORIAN
BEGIN:VEVENT
UID:70be074c87667d356680fd6f0c6db24d
DTSTAMP:20260422T080911Z
SUMMARY:Lunch mit Referat
DESCRIPTION:Conférencier(s): Markus Knoblauch
URL:https://rotary-bachtel-zuerich.ch/fr/agenda/show/137873
DTSTART;TZID=Europe/Zurich:20220117T120000
DTEND;TZID=Europe/Zurich:20220117T133000
LOCATION:Gartencenter Meier\, Kreuzstrasse 2\, 8635 Dürnten\, Schweiz
CATEGORIES:Rotary
END:VEVENT
BEGIN:VTIMEZONE
TZID:Europe/Zurich
BEGIN:STANDARD
DTSTART:20220117T120000
TZNAME:CET
TZOFFSETTO:+0100
TZOFFSETFROM:+0100
END:STANDARD
END:VTIMEZONE
END:VCALENDAR
