BEGIN:VCALENDAR
PRODID:-//eluceo/ical//2.0/EN
VERSION:2.0
CALSCALE:GREGORIAN
BEGIN:VEVENT
UID:00e5ca74dd90e1279c86b937ed21b6c8
DTSTAMP:20260424T213204Z
SUMMARY:Wanderung - in und um Dürnten
DESCRIPTION:Conférencier(s): 
URL:https://rotary-bachtel-zuerich.ch/fr/agenda/show/123354
DTSTART;TZID=Europe/Zurich:20210227T100000
DTEND;TZID=Europe/Zurich:20210227T120000
LOCATION:Outdoor
CATEGORIES:Rotary
END:VEVENT
BEGIN:VTIMEZONE
TZID:Europe/Zurich
BEGIN:STANDARD
DTSTART:20210227T100000
TZNAME:CET
TZOFFSETTO:+0100
TZOFFSETFROM:+0100
END:STANDARD
END:VTIMEZONE
END:VCALENDAR
