BEGIN:VCALENDAR
PRODID:-//eluceo/ical//2.0/EN
VERSION:2.0
CALSCALE:GREGORIAN
BEGIN:VEVENT
UID:5b54634c30feed1e358b7e77f999435e
DTSTAMP:20260424T213000Z
SUMMARY:Wanderung Lützelsee
DESCRIPTION:
URL:https://rotary-bachtel-zuerich.ch/fr/agenda/show/123346
DTSTART;TZID=Europe/Zurich:20210218T140000
DTEND;TZID=Europe/Zurich:20210218T160000
LOCATION:Oberwolfhausen / Engelberg
CATEGORIES:Rotary
END:VEVENT
BEGIN:VTIMEZONE
TZID:Europe/Zurich
BEGIN:STANDARD
DTSTART:20210218T140000
TZNAME:CET
TZOFFSETTO:+0100
TZOFFSETFROM:+0100
END:STANDARD
END:VTIMEZONE
END:VCALENDAR
