BEGIN:VCALENDAR
PRODID:-//eluceo/ical//2.0/EN
VERSION:2.0
CALSCALE:GREGORIAN
BEGIN:VEVENT
UID:ac2277b36a728f9d87b573e1ffdfb320
DTSTAMP:20260420T110115Z
SUMMARY:Der Partnerinnen/Partner Anlass ist in den Herbst verschoben 
DESCRIPTION:Referenten/innen: www.farneralp.ch   Führung/Nachtessen mit El
 isabeth Pflugshaupt (Wasserversorgung wurde vom Club mitfinanziert.)
URL:https://rotary-bachtel-zuerich.ch/de/agenda/show/111009
DTSTART;TZID=Europe/Zurich:20200606T000000
DTEND;TZID=Europe/Zurich:20200606T000000
LOCATION:-
CATEGORIES:Rotary
END:VEVENT
BEGIN:VTIMEZONE
TZID:Europe/Zurich
BEGIN:DAYLIGHT
DTSTART:20200606T000000
TZNAME:CEST
TZOFFSETTO:+0200
TZOFFSETFROM:+0200
END:DAYLIGHT
END:VTIMEZONE
END:VCALENDAR
