BEGIN:VCALENDAR
PRODID:-//eluceo/ical//2.0/EN
VERSION:2.0
CALSCALE:GREGORIAN
BEGIN:VEVENT
UID:987c07c99ebcb8acdb7d7bb71e461e26
DTSTAMP:20260422T125151Z
SUMMARY:KEIN Rotary @ Work
DESCRIPTION:Referenten/innen: Eugen Seitz AG • Spitalstrasse 204 • 8623
  Wetzikon
URL:https://rotary-bachtel-zuerich.ch/de/agenda/show/111001
DTSTART;TZID=Europe/Zurich:20200420T000000
DTEND;TZID=Europe/Zurich:20200420T000000
LOCATION:-
CATEGORIES:Rotary
END:VEVENT
BEGIN:VTIMEZONE
TZID:Europe/Zurich
BEGIN:DAYLIGHT
DTSTART:20200420T000000
TZNAME:CEST
TZOFFSETTO:+0200
TZOFFSETFROM:+0200
END:DAYLIGHT
END:VTIMEZONE
END:VCALENDAR
