BEGIN:VCALENDAR
PRODID:-//eluceo/ical//2.0/EN
VERSION:2.0
CALSCALE:GREGORIAN
BEGIN:VEVENT
UID:d4f3db0cd3bca5eac056e957944f233f
DTSTAMP:20260420T131718Z
SUMMARY:RC Oberland lädt zum Neujahrsschiessen ein
DESCRIPTION:Kosten:          CHF 40.-- inkl. Spatz / Crème-Schnit
 te\, ohne Getränke\n\nWaffe:           Geschossen wird dieses M
 al mit Gewehren Stgw 57 und 90\, theoretisch auch Karabiner (Gewehre und L
 ärmschutz-Pamir sind vorhanden\, eigene Waffen erwünscht)\n\nProgramm: 
   2 Probeschüsse\, anschl. 8 Schuss Einzelfeuer
URL:https://rotary-bachtel-zuerich.ch/de/agenda/show/106295
DTSTART;TZID=Europe/Zurich:20200114T103000
DTEND;TZID=Europe/Zurich:20200114T143000
LOCATION:Schiessanlage Betzholz
CATEGORIES:Rotary
END:VEVENT
BEGIN:VTIMEZONE
TZID:Europe/Zurich
BEGIN:STANDARD
DTSTART:20200114T103000
TZNAME:CET
TZOFFSETTO:+0100
TZOFFSETFROM:+0100
END:STANDARD
END:VTIMEZONE
END:VCALENDAR
