BEGIN:VCALENDAR
PRODID:-//eluceo/ical//2.0/EN
VERSION:2.0
CALSCALE:GREGORIAN
BEGIN:VEVENT
UID:fc022bd39a8234dc85ddadda7f762651
DTSTAMP:20260421T114612Z
SUMMARY:Lunch im Wald 
DESCRIPTION:Bitte anmelden!\nWeb stranica: http://www.rotary-bachtel-zueric
 h.ch/documents/download/144639/02-lunch-im-waldpdf
URL:https://rotary-bachtel-zuerich.ch/bs/agenda/show/114047
DTSTART;TZID=Europe/Zurich:20200720T000000
DTEND;TZID=Europe/Zurich:20200720T000000
LOCATION:Giessenhütte
CATEGORIES:Rotary
END:VEVENT
BEGIN:VTIMEZONE
TZID:Europe/Zurich
BEGIN:DAYLIGHT
DTSTART:20200720T000000
TZNAME:CEST
TZOFFSETTO:+0200
TZOFFSETFROM:+0200
END:DAYLIGHT
END:VTIMEZONE
END:VCALENDAR
