BEGIN:VCALENDAR
PRODID:-//eluceo/ical//2.0/EN
VERSION:2.0
CALSCALE:GREGORIAN
BEGIN:VEVENT
UID:0e64c89e7933c5043f79a84d76c40b03
DTSTAMP:20260423T090354Z
SUMMARY:Lunch auf dem Greifensee
DESCRIPTION:Govornik(ci): Interessierte richten ihre Anmeldung bis spätest
 ens Freitag\, 12. Juni 2020 an unseren Clubpräsidenten thomas.ineichen@mz
 ol.ch.
URL:https://rotary-bachtel-zuerich.ch/bs/agenda/show/111012
DTSTART;TZID=Europe/Zurich:20200618T000000
DTEND;TZID=Europe/Zurich:20200618T000000
LOCATION:Greifensee
CATEGORIES:Rotary
END:VEVENT
BEGIN:VTIMEZONE
TZID:Europe/Zurich
BEGIN:DAYLIGHT
DTSTART:20200618T000000
TZNAME:CEST
TZOFFSETTO:+0200
TZOFFSETFROM:+0200
END:DAYLIGHT
END:VTIMEZONE
END:VCALENDAR
