BEGIN:VCALENDAR
PRODID:-//eluceo/ical//2.0/EN
VERSION:2.0
CALSCALE:GREGORIAN
BEGIN:VEVENT
UID:225e61603ceff15c03485f855b34a00e
DTSTAMP:20260421T080201Z
SUMMARY:Pfingstmontag – kein Lunch
DESCRIPTION:
URL:https://rotary-bachtel-zuerich.ch/bs/agenda/show/111008
DTSTART;TZID=Europe/Zurich:20200601T000000
DTEND;TZID=Europe/Zurich:20200601T000000
LOCATION:-
CATEGORIES:Rotary
END:VEVENT
BEGIN:VTIMEZONE
TZID:Europe/Zurich
BEGIN:DAYLIGHT
DTSTART:20200601T000000
TZNAME:CEST
TZOFFSETTO:+0200
TZOFFSETFROM:+0200
END:DAYLIGHT
END:VTIMEZONE
END:VCALENDAR
